BEGIN:VCALENDAR
VERSION:2.0
PRODID:-//WSM Radio - ECPv6.15.11//NONSGML v1.0//EN
CALSCALE:GREGORIAN
METHOD:PUBLISH
X-WR-CALNAME:WSM Radio
X-ORIGINAL-URL:https://wsmradio.com
X-WR-CALDESC:Events for WSM Radio
REFRESH-INTERVAL;VALUE=DURATION:PT1H
X-Robots-Tag:noindex
X-PUBLISHED-TTL:PT1H
BEGIN:VTIMEZONE
TZID:UTC
BEGIN:STANDARD
TZOFFSETFROM:+0000
TZOFFSETTO:+0000
TZNAME:UTC
DTSTART:20180101T000000
END:STANDARD
END:VTIMEZONE
BEGIN:VEVENT
DTSTART;VALUE=DATE:20190927
DTEND;VALUE=DATE:20190928
DTSTAMP:20260424T044106
CREATED:20180813T192616Z
LAST-MODIFIED:20180813T192616Z
UID:118758-1569542400-1569628799@wsmradio.com
SUMMARY:Carrie Underwood: The Cry Pretty World Tour 360 at Bridgestone Arena
DESCRIPTION:[vc_row full_width=”stretch_row” width=”full” bg_type=”image”][vc_column][vc_single_image image=”58004″ img_size=”full” alignment=”center”][/vc_column][/vc_row][vc_row p_top=”40″ p_bottom=”20″][vc_column][vc_column_text c_id=”.vc_1452189854043″]Carrie Underwood’s Cry Pretty Tour 360 with special guests Maddie & Tae and Runaway June rolls into Nashville’s Bridgestone Arena on September 27th\, 2019. You won’t want to miss incredible night of country music girl power! \nWant to win tickets? Register to win here! \nClick here for additional ticket info.[/vc_column_text][vc_column_text c_id=”.vc_1454023309423″][/vc_column_text][/vc_column][/vc_row]
URL:https://wsmradio.com/event/carrie-underwood-at-bridgestone-arena-2-2/
LOCATION:Bridgestone Arena\, 501 Broadway\, Nashville\, TN\, 37203\, United States
CATEGORIES:Speciality Event
ATTACH;FMTTYPE=image/jpeg:https://wsmradio.com/wp-content/uploads/sites/10/2018/08/CU_480x252.jpg
GEO:36.1592071;-86.7783976
X-APPLE-STRUCTURED-LOCATION;VALUE=URI;X-ADDRESS=Bridgestone Arena 501 Broadway Nashville TN 37203 United States;X-APPLE-RADIUS=500;X-TITLE=501 Broadway:geo:-86.7783976,36.1592071
END:VEVENT
BEGIN:VEVENT
DTSTART;VALUE=DATE:20190927
DTEND;VALUE=DATE:20190928
DTSTAMP:20260424T044106
CREATED:20180813T192616Z
LAST-MODIFIED:20180813T192616Z
UID:118761-1569542400-1569628799@wsmradio.com
SUMMARY:Carrie Underwood: The Cry Pretty World Tour 360 at Bridgestone Arena
DESCRIPTION:[vc_row full_width=”stretch_row” width=”full” bg_type=”image”][vc_column][vc_single_image image=”58004″ img_size=”full” alignment=”center”][/vc_column][/vc_row][vc_row p_top=”40″ p_bottom=”20″][vc_column][vc_column_text c_id=”.vc_1452189854043″]Carrie Underwood’s Cry Pretty Tour 360 with special guests Maddie & Tae and Runaway June rolls into Nashville’s Bridgestone Arena on September 27th\, 2019. You won’t want to miss incredible night of country music girl power! \nWant to win tickets? Register to win here! \nClick here for additional ticket info.[/vc_column_text][vc_column_text c_id=”.vc_1454023309423″][/vc_column_text][/vc_column][/vc_row]
URL:https://wsmradio.com/event/carrie-underwood-at-bridgestone-arena-2-3/
LOCATION:Bridgestone Arena\, 501 Broadway\, Nashville\, TN\, 37203\, United States
CATEGORIES:Speciality Event
ATTACH;FMTTYPE=image/jpeg:https://wsmradio.com/wp-content/uploads/sites/10/2018/08/CU_480x252.jpg
GEO:36.1592071;-86.7783976
X-APPLE-STRUCTURED-LOCATION;VALUE=URI;X-ADDRESS=Bridgestone Arena 501 Broadway Nashville TN 37203 United States;X-APPLE-RADIUS=500;X-TITLE=501 Broadway:geo:-86.7783976,36.1592071
END:VEVENT
END:VCALENDAR