BEGIN:VCALENDAR
VERSION:2.0
PRODID:-//WSM Radio - ECPv6.15.11//NONSGML v1.0//EN
CALSCALE:GREGORIAN
METHOD:PUBLISH
X-WR-CALNAME:WSM Radio
X-ORIGINAL-URL:https://wsmradio.com
X-WR-CALDESC:Events for WSM Radio
REFRESH-INTERVAL;VALUE=DURATION:PT1H
X-Robots-Tag:noindex
X-PUBLISHED-TTL:PT1H
BEGIN:VTIMEZONE
TZID:UTC
BEGIN:STANDARD
TZOFFSETFROM:+0000
TZOFFSETTO:+0000
TZNAME:UTC
DTSTART:20160101T000000
END:STANDARD
END:VTIMEZONE
BEGIN:VEVENT
DTSTART;TZID=UTC:20171111T110000
DTEND;TZID=UTC:20171111T180000
DTSTAMP:20260425T134219
CREATED:20171026T210813Z
LAST-MODIFIED:20171026T214158Z
UID:40950-1510398000-1510423200@wsmradio.com
SUMMARY:SIP TN Wine Festival
DESCRIPTION:[vc_row full_width=”stretch_row” width=”full” bg_type=”image”][vc_column][vc_single_image image=”40956″ img_size=”full” alignment=”center”][/vc_column][/vc_row][vc_row p_top=”40″ p_bottom=”20″][vc_column][vc_column_text c_id=”.vc_1450364164596″] \nSIP TN Wine Festival\nJoin us Saturday\, November 11th from 11am-6pm at the Nashville Farmer’s Market for the SIP TN Wine Festival!\n\n[/vc_column_text][vc_column_text c_id=”.vc_1450364489020″] \n\nThe Sip TN Wine Festival is designed to showcase Tennessee wine at its finest. From the freshest produce and plants to the best wine and food\, you are in for a truly Farm to Bottle experience. The festival is planned to be a day of fun with families in mind\, so come and stroll around\, shop with artisans and vendors\, enjoy delicious food and sip wine and hard cider all from local sources. Even the proceeds from the event stay local\, benefitting the Farmer’s Market and the TN Farm Winegrowers Alliance. So plan to spend a day with our farm families and usher in the holiday season in style! \nCatch the WSM Street Team onsite to download our free app and pick up cool swag! \nTo purchase your tickets\, click HERE! \n\n\n[/vc_column_text][/vc_column][/vc_row]
URL:https://wsmradio.com/event/sip-tn-wine-festival/
LOCATION:Nashville Farmer’s Market\, 900 Rosa Parks Bvld\, Nashville\, TN\, 37208\, United States
CATEGORIES:Speciality Event
ATTACH;FMTTYPE=image/jpeg:https://wsmradio.com/wp-content/uploads/sites/10/2017/10/Siptn1.jpg
GEO:36.1694418;-86.7879402
X-APPLE-STRUCTURED-LOCATION;VALUE=URI;X-ADDRESS=Nashville Farmer’s Market 900 Rosa Parks Bvld Nashville TN 37208 United States;X-APPLE-RADIUS=500;X-TITLE=900 Rosa Parks Bvld:geo:-86.7879402,36.1694418
END:VEVENT
BEGIN:VEVENT
DTSTART;TZID=UTC:20171111T110000
DTEND;TZID=UTC:20171111T180000
DTSTAMP:20260425T134219
CREATED:20171026T210813Z
LAST-MODIFIED:20171026T210813Z
UID:118728-1510398000-1510423200@wsmradio.com
SUMMARY:SIP TN Wine Festival
DESCRIPTION:[vc_row full_width=”stretch_row” width=”full” bg_type=”image”][vc_column][vc_single_image image=”40956″ img_size=”full” alignment=”center”][/vc_column][/vc_row][vc_row p_top=”40″ p_bottom=”20″][vc_column][vc_column_text c_id=”.vc_1450364164596″] \nSIP TN Wine Festival\nJoin us Saturday\, November 11th from 11am-6pm at the Nashville Farmer’s Market for the SIP TN Wine Festival!\n\n[/vc_column_text][vc_column_text c_id=”.vc_1450364489020″] \n\nThe Sip TN Wine Festival is designed to showcase Tennessee wine at its finest. From the freshest produce and plants to the best wine and food\, you are in for a truly Farm to Bottle experience. The festival is planned to be a day of fun with families in mind\, so come and stroll around\, shop with artisans and vendors\, enjoy delicious food and sip wine and hard cider all from local sources. Even the proceeds from the event stay local\, benefitting the Farmer’s Market and the TN Farm Winegrowers Alliance. So plan to spend a day with our farm families and usher in the holiday season in style! \nCatch the WSM Street Team onsite to download our free app and pick up cool swag! \nTo purchase your tickets\, click HERE! \n\n\n[/vc_column_text][/vc_column][/vc_row]
URL:https://wsmradio.com/event/sip-tn-wine-festival-2/
LOCATION:Nashville Farmer’s Market\, 900 Rosa Parks Bvld\, Nashville\, TN\, 37208\, United States
CATEGORIES:Speciality Event
ATTACH;FMTTYPE=image/jpeg:https://wsmradio.com/wp-content/uploads/sites/10/2017/10/Siptn1.jpg
GEO:36.1694418;-86.7879402
X-APPLE-STRUCTURED-LOCATION;VALUE=URI;X-ADDRESS=Nashville Farmer’s Market 900 Rosa Parks Bvld Nashville TN 37208 United States;X-APPLE-RADIUS=500;X-TITLE=900 Rosa Parks Bvld:geo:-86.7879402,36.1694418
END:VEVENT
BEGIN:VEVENT
DTSTART;TZID=UTC:20171111T110000
DTEND;TZID=UTC:20171111T180000
DTSTAMP:20260425T134219
CREATED:20171026T210813Z
LAST-MODIFIED:20171026T210813Z
UID:118731-1510398000-1510423200@wsmradio.com
SUMMARY:SIP TN Wine Festival
DESCRIPTION:[vc_row full_width=”stretch_row” width=”full” bg_type=”image”][vc_column][vc_single_image image=”40956″ img_size=”full” alignment=”center”][/vc_column][/vc_row][vc_row p_top=”40″ p_bottom=”20″][vc_column][vc_column_text c_id=”.vc_1450364164596″] \nSIP TN Wine Festival\nJoin us Saturday\, November 11th from 11am-6pm at the Nashville Farmer’s Market for the SIP TN Wine Festival!\n\n[/vc_column_text][vc_column_text c_id=”.vc_1450364489020″] \n\nThe Sip TN Wine Festival is designed to showcase Tennessee wine at its finest. From the freshest produce and plants to the best wine and food\, you are in for a truly Farm to Bottle experience. The festival is planned to be a day of fun with families in mind\, so come and stroll around\, shop with artisans and vendors\, enjoy delicious food and sip wine and hard cider all from local sources. Even the proceeds from the event stay local\, benefitting the Farmer’s Market and the TN Farm Winegrowers Alliance. So plan to spend a day with our farm families and usher in the holiday season in style! \nCatch the WSM Street Team onsite to download our free app and pick up cool swag! \nTo purchase your tickets\, click HERE! \n\n\n[/vc_column_text][/vc_column][/vc_row]
URL:https://wsmradio.com/event/sip-tn-wine-festival-3/
LOCATION:Nashville Farmer’s Market\, 900 Rosa Parks Bvld\, Nashville\, TN\, 37208\, United States
CATEGORIES:Speciality Event
ATTACH;FMTTYPE=image/jpeg:https://wsmradio.com/wp-content/uploads/sites/10/2017/10/Siptn1.jpg
GEO:36.1694418;-86.7879402
X-APPLE-STRUCTURED-LOCATION;VALUE=URI;X-ADDRESS=Nashville Farmer’s Market 900 Rosa Parks Bvld Nashville TN 37208 United States;X-APPLE-RADIUS=500;X-TITLE=900 Rosa Parks Bvld:geo:-86.7879402,36.1694418
END:VEVENT
END:VCALENDAR